BEGIN:VCALENDAR
VERSION:2.0
PRODID:-//JuBo Events &amp; more - Kreativ I Persönlich I Einzigartig - ECPv6.15.20//NONSGML v1.0//EN
CALSCALE:GREGORIAN
METHOD:PUBLISH
X-WR-CALNAME:JuBo Events &amp; more - Kreativ I Persönlich I Einzigartig
X-ORIGINAL-URL:https://juboweinhaus.de
X-WR-CALDESC:Veranstaltungen für JuBo Events &amp; more - Kreativ I Persönlich I Einzigartig
REFRESH-INTERVAL;VALUE=DURATION:PT1H
X-Robots-Tag:noindex
X-PUBLISHED-TTL:PT1H
BEGIN:VTIMEZONE
TZID:Europe/Berlin
BEGIN:DAYLIGHT
TZOFFSETFROM:+0100
TZOFFSETTO:+0200
TZNAME:CEST
DTSTART:20220327T010000
END:DAYLIGHT
BEGIN:STANDARD
TZOFFSETFROM:+0200
TZOFFSETTO:+0100
TZNAME:CET
DTSTART:20221030T010000
END:STANDARD
BEGIN:DAYLIGHT
TZOFFSETFROM:+0100
TZOFFSETTO:+0200
TZNAME:CEST
DTSTART:20230326T010000
END:DAYLIGHT
BEGIN:STANDARD
TZOFFSETFROM:+0200
TZOFFSETTO:+0100
TZNAME:CET
DTSTART:20231029T010000
END:STANDARD
BEGIN:DAYLIGHT
TZOFFSETFROM:+0100
TZOFFSETTO:+0200
TZNAME:CEST
DTSTART:20240331T010000
END:DAYLIGHT
BEGIN:STANDARD
TZOFFSETFROM:+0200
TZOFFSETTO:+0100
TZNAME:CET
DTSTART:20241027T010000
END:STANDARD
END:VTIMEZONE
BEGIN:VEVENT
DTSTART;VALUE=DATE:20230819
DTEND;VALUE=DATE:20230820
DTSTAMP:20260422T201154
CREATED:20230322T130618Z
LAST-MODIFIED:20251025T005442Z
UID:10000025-1692403200-1692489599@juboweinhaus.de
SUMMARY:Tagesreise an die Ahr
DESCRIPTION:Ein Tag voller Wein-Erlebnis mit Wanderung durch die Steillagen an der Ahr (in Dernau)\, einer ausführlichen Weinverkostung\, Mittagessen\, abendlichem Ausklang im JuBo Weinhaus mit Menü und 5er-Weinprobe.
URL:https://juboweinhaus.de/event/tagesreise-an-die-ahr/
CATEGORIES:ARCHIV
ORGANIZER;CN="JuBo Wine Tours":MAILTO:info@jubowinetours.com
END:VEVENT
BEGIN:VEVENT
DTSTART;VALUE=DATE:20230805
DTEND;VALUE=DATE:20230806
DTSTAMP:20260422T201154
CREATED:20230322T131934Z
LAST-MODIFIED:20251025T005427Z
UID:10000026-1691193600-1691279999@juboweinhaus.de
SUMMARY:Tagesreise an den Mittelrhein
DESCRIPTION:Ein Tag voller Wein-Erlebnis mit Wanderung durch die fantastischen steil gelegenen Weinberge in Königswinter\, einer ausführlichen Weinverkostung\, Mittagessen\, abendlichem Ausklang im JuBo Weinhaus mit Menü und 5er-Weinprobe
URL:https://juboweinhaus.de/event/tagesreise-an-den-mittelrhein/
CATEGORIES:ARCHIV
ATTACH;FMTTYPE=image/jpeg:https://juboweinhaus.de/wp-content/uploads/2023/03/bullay-g1ad98265c_1920.jpg
ORGANIZER;CN="JuBo Wine Tours":MAILTO:info@jubowinetours.com
END:VEVENT
BEGIN:VEVENT
DTSTART;TZID=Europe/Berlin:20230528T100000
DTEND;TZID=Europe/Berlin:20230528T235900
DTSTAMP:20260422T201154
CREATED:20230418T123946Z
LAST-MODIFIED:20251025T005109Z
UID:10000032-1685268000-1685318340@juboweinhaus.de
SUMMARY:Weinfrühling in Dernau - Rotweinwanderung
DESCRIPTION:Besucht mit uns das Weinfrühling-Event an der Mittelahr \nDie Winzer und Gastronomen an der Mittelahr laden jedes Wochenende von der Mittelahr auf den Rotweinwanderweg ein. Von 10 Uhr bis zum Sonnenuntergang kann man durch die berühmten Weinbergslagen am Rotweinwanderweg schlendern und auf einer Strecke von 15 km von Dernau bis Altenahr an 25 Stationen der einheimischen Winzer und Gastronomen rund 80 Weine probieren sowie kleine Leckereien genießen. \nInklusive An- und Abreise in einem modernen\, klimatisierten  Reisebus\, Weinbergswanderung\, Besuch der Stände\, Tipps vor Ort von dem/ der Reiseleiter:in für den Besuch von regionalen Weingütern und Gastronomie. \nPreis: 139€ p.P.\nOptional zubuchbar: Dreigang -Menü mit Weinprobe mit der Gruppe\nabends im JuBo\nPreis: 40€ p.P. \n  \nWer mehr über das Weinfest wissen möchte\, erfährt hier mehr: Zur Webseite
URL:https://juboweinhaus.de/event/weinfruehling-in-dernau-rotweinwanderung-4/
CATEGORIES:ARCHIV
ORGANIZER;CN="JuBo Wine Tours":MAILTO:info@jubowinetours.com
END:VEVENT
END:VCALENDAR