BEGIN:VCALENDAR
VERSION:2.0
PRODID:-//JuBo Events &amp; more - Kreativ I Persönlich I Einzigartig - ECPv6.15.20//NONSGML v1.0//EN
CALSCALE:GREGORIAN
METHOD:PUBLISH
X-WR-CALNAME:JuBo Events &amp; more - Kreativ I Persönlich I Einzigartig
X-ORIGINAL-URL:https://juboweinhaus.de
X-WR-CALDESC:Veranstaltungen für JuBo Events &amp; more - Kreativ I Persönlich I Einzigartig
REFRESH-INTERVAL;VALUE=DURATION:PT1H
X-Robots-Tag:noindex
X-PUBLISHED-TTL:PT1H
BEGIN:VTIMEZONE
TZID:Europe/Berlin
BEGIN:DAYLIGHT
TZOFFSETFROM:+0100
TZOFFSETTO:+0200
TZNAME:CEST
DTSTART:20250330T010000
END:DAYLIGHT
BEGIN:STANDARD
TZOFFSETFROM:+0200
TZOFFSETTO:+0100
TZNAME:CET
DTSTART:20251026T010000
END:STANDARD
BEGIN:DAYLIGHT
TZOFFSETFROM:+0100
TZOFFSETTO:+0200
TZNAME:CEST
DTSTART:20260329T010000
END:DAYLIGHT
BEGIN:STANDARD
TZOFFSETFROM:+0200
TZOFFSETTO:+0100
TZNAME:CET
DTSTART:20261025T010000
END:STANDARD
BEGIN:DAYLIGHT
TZOFFSETFROM:+0100
TZOFFSETTO:+0200
TZNAME:CEST
DTSTART:20270328T010000
END:DAYLIGHT
BEGIN:STANDARD
TZOFFSETFROM:+0200
TZOFFSETTO:+0100
TZNAME:CET
DTSTART:20271031T010000
END:STANDARD
END:VTIMEZONE
BEGIN:VEVENT
DTSTART;TZID=Europe/Berlin:20260421T180000
DTEND;TZID=Europe/Berlin:20260421T220000
DTSTAMP:20260421T122739
CREATED:20260102T173915Z
LAST-MODIFIED:20260323T152120Z
UID:10001088-1776794400-1776808800@juboweinhaus.de
SUMMARY:Bingo Abend mit Boris im Plomari Garden Köln Sülz by JuBo Events & more
DESCRIPTION:Bingo Abend mit Bingo Master Boris – ein Abend zum Ankreuzen! \nDienstag ist Bingo Abend  im Plomari Garden Köln in Sülz – ein Highlight\, organisiert von JuBo Events & more\, das du nicht verpassen solltest! Dieser besondere Bingo-Abend verbindet Spannung\, Unterhaltung und Live-Entertainment auf höchstem Niveau. \nBingo Master Boris führt mit Charme\, Witz und jeder Menge Energie durch den Abend. Hier laufen nicht nur die Kugeln heiß – auch die Stimmung steigt Runde für Runde! \nFreu dich auf 3 mitreißende Bingo-Runden mit insgesamt 9 Gewinnchancen. Die Preise können sich sehen lassen: Wertgutscheine\, Weine und viele weitere Überraschungen warten auf dich. \nTypisch für JuBo Events & more ist das besondere Extra: Zwischen den Bingo-Runden begeistert Bingomaster Boris zusätzlich mit Live-Musik und Gesang – ein echtes Highlight\, das diesen Abend einzigartig macht. \nOb alleine\, mit Freunden oder der Familie – hier heißt es: ankreuzen &. abräumen. \n🕔 Einlass: ab 18:00 Uhr \n🎱 Spielbeginn: ca. 19:00 Uhr \n👉 Sichere dir jetzt deinen Platz\, lass die Kugeln rollen und erlebe einen unvergesslichen Abend mit JuBo Events & more. \nZusatzinfo zum Angebot im Plomari Garden
URL:https://juboweinhaus.de/event/bingo-abend-mit-boris-x-jubo-weinhaus-x-plomari-garden-in-suelz-3/
LOCATION:Plomari Garden\, Luxemburgerstr. 319\, Köln\, NRW\, 50939\, Germany
CATEGORIES:@ Plomari Garden,Bingo,JuBo Specials
ATTACH;FMTTYPE=image/png:https://juboweinhaus.de/wp-content/uploads/2025/10/Bingo_JuBo_Events_3.png
ORGANIZER;CN="JuBo Events & more":MAILTO:Events@JuBoWeinhaus.de
END:VEVENT
BEGIN:VEVENT
DTSTART;TZID=Europe/Berlin:20260423T180000
DTEND;TZID=Europe/Berlin:20260423T213000
DTSTAMP:20260421T122739
CREATED:20260224T142038Z
LAST-MODIFIED:20260405T202842Z
UID:10001126-1776967200-1776979800@juboweinhaus.de
SUMMARY:Weingläser bemalen Classic Experience in Köln | Kreatives Event im Peperino am Chlodwigplatz by JuBo Events & more
DESCRIPTION:Zeit für Farbe\, Kreativität und gute Laune! Beim Weingläser bemalen Classic Experience im Peperino Köln am Chlodwigplatz erwartet Dich ein entspanntes DIY Event von JuBo Events & more mit Anleitung\, allen benötigten Materialien und besonderer Atmosphäre. Hier kannst Du Deiner Kreativität freien Lauf lassen – ganz egal\, ob Du Dich wie Picasso fühlst\, zum ersten Mal einen Pinsel hältst oder einfach Lust auf einen besonderen Abend hast. Schnapp Dir ein Glas\, wähle Deine Lieblingsfarben und gestalte Dein persönliches Unikat! Ob elegant\, verspielt\, witzig\, wild oder ausgefallen – Deine bemalten Weingläser werden garantiert zum Hingucker. Perfekt für JGA\, Teamevents oder einen kreativen Abend mit Freunden. \nWie läuft das Event ab?\n• Nach Deiner Ankunft wirst Du herzlich begrüßt und erhältst eine Einführung in Techniken und Gestaltungsmöglichkeiten.\n• Anschließend wirst Du direkt kreativ und gestaltest Deine zwei Weingläser individuell. Während des gesamten DIY Events steht Dir eine erfahrene Kursleitung zur Seite\, sodass auch Anfänger problemlos tolle Ergebnisse erzielen.\n• Der Fokus liegt auf einer lockeren\, entspannten Atmosphäre – ganz ohne Druck\, dafür mit viel Spaß und Kreativität. \nWas ist beim Event Weingläser bemalen Classic Experience inklusive?\n2 Weingläser zum Bemalen (und Behalten natürlich)\nFarben\, Pinsel und alle Materialien die Du brauchst\nFachkundige Anleitung\, Unterstützung und kreative Tipps durch uns \nFür wen ist das Event geeignet?\n• Anfänger & Kreative\n• Gruppenevent & Paare\n• Teamevents & Firmenfeiern\n• Dates oder kreative Auszeiten\n• Junggesellinnenabschiede (JGA)\n• Geburtstage\nKurz gesagt: Für alle\, die ein besonderes Event Erlebnis in Köln suchen 🙂\nIndividuelle Termine für Gruppen sind möglich. \nWas Du zum Event mitbringen solltest!\nGute Laune\, Kleidung die Farbe abbekommen darf und etwas zum Verpacken\, damit Deine Weingläser sicher nach Hause kommen.  \nInformationen zur Event Location\nDas Event findet im stilvollen Peperino am Chlodwigplatz in Köln statt. Freu Dich auf kreative Atmosphäre sowie eine vielfältige Auswahl an Speisen und Getränken – inklusive veganer und glutenfreier Optionen für ein rundum genussvolles Erlebnis. \nDein kreatives Erlebnis\nAm Ende nimmst Du nicht nur Deine selbst gestalteten Weingläser mit nach Hause\, sondern auch unvergessliche Erinnerungen und ein Lächeln im Gesicht. Versprochen! \nJetzt Plätze sichern\nDie Plätze für das DIY Event Weingläser bemalen Classic Experience in Köln sind heiß begehrt! Sichere Dir jetzt Dein Ticket und bring Deine Lieblingsmenschen mit\, um gemeinsam kreativ zu werden. \nZusatzinfo zum Angebot im Peperino \n \nHier gehts zur Bildergalerie
URL:https://juboweinhaus.de/event/weinglaeser-bemalen-x-jubo-x-peperino-am-chlodwigplatz-malen-lachen-anstossen-4/
LOCATION:Peperino\, Chlodwigplatz 5\, Köln\, 50678\, Germany
CATEGORIES:@ Peperino Köln,Gläser bemalen,JuBo Specials,Kreatives
ATTACH;FMTTYPE=image/png:https://juboweinhaus.de/wp-content/uploads/2026/02/Glaeser_bemalen_JuBo_Events_Peperino_03_Q.png
ORGANIZER;CN="JuBo Events & more":MAILTO:Events@JuBoWeinhaus.de
END:VEVENT
BEGIN:VEVENT
DTSTART;TZID=Europe/Berlin:20260423T180000
DTEND;TZID=Europe/Berlin:20260423T213000
DTSTAMP:20260421T122739
CREATED:20260405T151828Z
LAST-MODIFIED:20260405T151828Z
UID:10001202-1776967200-1776979800@juboweinhaus.de
SUMMARY:Weingläser bemalen Premium Experience in Köln | Kreatives Event inkl. Prosecco &. 2 Weinen im Peperino am Chlodwigplatz by JuBo Events & more
DESCRIPTION:Zeit für Farbe\, Kreativität\, Genuss und besondere Momente! \nBeim Weingläser bemalen Premium Experience im Peperino Köln am Chlodwigplatz erwartet Dich ein stilvolles DIY Event von JuBo Events & more\, mit fachkundiger Anleitung und allen benötigten Materialien was Kreativität und Genuss perfekt verbindet. \nFreu Dich auf einen Prosecco zur Begrüßung\, zwei ausgewählte Weine während des Events und drei Weingläser zum bemalen.  \nLass Deiner Kreativität freien Lauf – ganz egal\, ob Du Dich wie Picasso fühlst\, zum ersten Mal einen Pinsel hältst oder einfach Lust auf einen besonderen Abend hast. Ob elegant\, modern\, verspielt oder außergewöhnlich – gestalte Deine persönlichen Unikate in entspannter Atmosphäre und genieße einen Abend\, der sich wie eine kleine kreative Auszeit anfühlt. Deine bemalten Weingläser werden garantiert zum Hingucker.  \nPerfekt für JGA\, Geburtstage\, Teamevents\, Dates oder einen stilvollen Abend mit Freunden. \nWie läuft das Event ab?\n• Nach Deiner Ankunft wirst Du mit einem Begrüßungsprosecco herzlich empfangen.\n• Anschließend erhältst Du eine Einführung in Techniken und Gestaltungsmöglichkeiten.\n• Danach wirst Du direkt kreativ und gestaltest Deine drei Weingläser ganz nach Deinem Stil.\n• Während des gesamten DIY Events begleiten Dich zwei inkludierte Weine\, die das Erlebnis besonders genussvoll machen.\n• Unsere erfahrene Kursleitung steht Dir jederzeit mit Rat und Tat unterstützend zur Seite.Der Fokus liegt auf einer lockeren\, entspannten Atmosphäre\, bei der Kreativität\, Genuss und gemeinsame Zeit – ganz ohne Druck\, im Mittelpunkt stehen. \nWas ist beim Event Weingläser bemalen Premium Experience inklusive?\n• 1 Begrüßungsprosecco\n• 2 Weine während des Events\n• 3 Weingläser zum Bemalen (und Behalten natürlich)\n• Farben\, Pinsel und alle Materialien die Du brauchst\n• Fachkundige Anleitung\, Unterstützung und kreative Tipps durch uns \nFür wen ist das Event geeignet?\n• Anfänger & Kreative\n• Gruppenevent & Paare\n• Teamevents & Firmenfeiern\n• Junggesellinnenabschiede (JGA)\n• kreative Genießer\n• Geburtstage\n• Dates\nKurz gesagt: Für alle\, die ein hochwertiges Event Erlebnis in Köln suchen 🙂\nIndividuelle Termine für Gruppen sind möglich. \nWas Du zum Event mitbringen solltest!\n• Gute Laune\n• Kleidung die Farbe abbekommen darf\n• etwas zum Verpacken\, damit Deine 3 Weingläser sicher nach Hause kommen \nInformationen zur Event Location\nDas Event findet im stilvollen Peperino am Chlodwigplatz in Köln statt. Freu Dich auf kreative Atmosphäre sowie eine vielfältige Auswahl an Speisen und Getränken – inklusive veganer und glutenfreier Optionen für ein rundum genussvolles Erlebnis. \nDein kreatives Premium Erlebnis\nAm Ende nimmst Du nicht nur Deine drei selbst gestalteten Weingläser mit nach Hause sondern auch einen besonderen Abend voller Genuss\, Kreativität und unvergesslicher Erinnerungen. Versprochen! \nJetzt Plätze sichern\nDie Plätze für das DIY Event Weingläser bemalen Premium Experience in Köln sind heiß begehrt! Sichere Dir jetzt Dein Ticket und bring Deine Lieblingsmenschen mit\, um gemeinsam kreativ zu werden. \nZusatzinfo zum Angebot im Peperino\n \nHier gehts zur Bildergalerie
URL:https://juboweinhaus.de/event/weinglaeser-bemalen-premium-experience-in-koeln-kreatives-event-inkl-prosecco-2-weinen-im-peperino-am-chlodwigplatz-by-jubo-events-more-3/
LOCATION:Peperino\, Chlodwigplatz 5\, Köln\, 50678\, Germany
CATEGORIES:@ Peperino Köln,Gläser bemalen,JuBo Specials,Kreatives
ATTACH;FMTTYPE=image/png:https://juboweinhaus.de/wp-content/uploads/2026/04/JuBo_Events_Glaeser_bemalen_Premium_03_Q.png
ORGANIZER;CN="JuBo Events & more":MAILTO:Events@JuBoWeinhaus.de
END:VEVENT
BEGIN:VEVENT
DTSTART;TZID=Europe/Berlin:20260423T180000
DTEND;TZID=Europe/Berlin:20260423T220000
DTSTAMP:20260421T122739
CREATED:20260329T162447Z
LAST-MODIFIED:20260329T163256Z
UID:10001187-1776967200-1776981600@juboweinhaus.de
SUMMARY:Spannende 6er Weinprobe inkl. Pizza\, Antipastivariation und Wasser
DESCRIPTION:Reserviere jetzt Deinen Platz für unser einmaliges Weinprobe Event im Peperino am Chlodwigplatz. \nProbiere für 49\,- sechs verschiedene Weine\, Pizza\, Antipastivariation und Wasser. \nKommt vorbei und genießt mit uns die Zeit.
URL:https://juboweinhaus.de/event/spannende-6er-weinprobe-inkl-pizza-antipastivariation-und-wasser/
LOCATION:Peperino\, Chlodwigplatz 5\, Köln\, 50678\, Germany
CATEGORIES:@ Peperino Köln,All you can Eat,Flammkuchen,JuBo Specials,Kultur,Offene Weinprobe
ORGANIZER;CN="JuBo Events & more":MAILTO:Events@JuBoWeinhaus.de
END:VEVENT
BEGIN:VEVENT
DTSTART;TZID=Europe/Berlin:20260424T170000
DTEND;TZID=Europe/Berlin:20260424T223000
DTSTAMP:20260421T122739
CREATED:20260224T143749Z
LAST-MODIFIED:20260323T151951Z
UID:10001127-1777050000-1777069800@juboweinhaus.de
SUMMARY:Bingo XXL im Peperino Köln by JuBo Events & more - Preise von 1000€ Gesamtwert
DESCRIPTION:Bingo XXL mit Bingo Master Boris – ein Abend zum Ankreuzen! \nFreitag ist Bingo XXL im Peperino Köln am Chlodwigplatz – ein Highlight\, organisiert von JuBo Events & more\, das du nicht verpassen solltest! Dieser besondere Bingo-Abend verbindet Spannung\, Unterhaltung und Live-Entertainment auf höchstem Niveau. \nBingo Master Boris führt mit Charme\, Witz und jeder Menge Energie durch den Abend. Hier laufen nicht nur die Kugeln heiß – auch die Stimmung steigt Runde für Runde! \nFreu dich auf 4 mitreißende Bingo-Runden mit insgesamt 24 Gewinnchancen. Die Preise im Gesamtwert von bis zu 1000 € können sich sehen lassen: Wertgutscheine\, Weine und viele weitere Überraschungen warten auf dich. \nTypisch für JuBo Events & more ist das besondere Extra: Zwischen den Bingo-Runden begeistert Bingomaster Boris zusätzlich mit Live-Musik und Gesang – ein echtes Highlight\, das diesen Abend einzigartig macht. \nOb alleine\, mit Freunden oder der Familie – hier heißt es: ankreuzen &. abräumen. \n🕔 Einlass: ab 17:00 Uhr \n🎱 Spielbeginn: ca. 18:30 Uhr \n👉 Sichere dir jetzt deinen Platz\, lass die Kugeln rollen und erlebe einen unvergesslichen Abend mit JuBo Events & more. \nZusatzinfo zum Angebot im Peperino
URL:https://juboweinhaus.de/event/bingo-xxl-mit-boris-x-jubo-weinhaus-x-peperino-preise-von-1000e-gesamtwert-11/
LOCATION:Peperino\, Chlodwigplatz 5\, Köln\, 50678\, Germany
CATEGORIES:@ Peperino Köln,Bingo,JuBo Specials
ATTACH;FMTTYPE=image/png:https://juboweinhaus.de/wp-content/uploads/2026/03/Bingo_XXL_JuBo_Events_1_Q.png
ORGANIZER;CN="JuBo Events & more":MAILTO:Events@JuBoWeinhaus.de
END:VEVENT
END:VCALENDAR