BEGIN:VCALENDAR
VERSION:2.0
PRODID:-//JuBo Events &amp; more - Kreativ I Persönlich I Einzigartig - ECPv6.15.20//NONSGML v1.0//EN
CALSCALE:GREGORIAN
METHOD:PUBLISH
X-ORIGINAL-URL:https://juboweinhaus.de
X-WR-CALDESC:Veranstaltungen für JuBo Events &amp; more - Kreativ I Persönlich I Einzigartig
REFRESH-INTERVAL;VALUE=DURATION:PT1H
X-Robots-Tag:noindex
X-PUBLISHED-TTL:PT1H
BEGIN:VTIMEZONE
TZID:Europe/Berlin
BEGIN:DAYLIGHT
TZOFFSETFROM:+0100
TZOFFSETTO:+0200
TZNAME:CEST
DTSTART:20240331T010000
END:DAYLIGHT
BEGIN:STANDARD
TZOFFSETFROM:+0200
TZOFFSETTO:+0100
TZNAME:CET
DTSTART:20241027T010000
END:STANDARD
BEGIN:DAYLIGHT
TZOFFSETFROM:+0100
TZOFFSETTO:+0200
TZNAME:CEST
DTSTART:20250330T010000
END:DAYLIGHT
BEGIN:STANDARD
TZOFFSETFROM:+0200
TZOFFSETTO:+0100
TZNAME:CET
DTSTART:20251026T010000
END:STANDARD
BEGIN:DAYLIGHT
TZOFFSETFROM:+0100
TZOFFSETTO:+0200
TZNAME:CEST
DTSTART:20260329T010000
END:DAYLIGHT
BEGIN:STANDARD
TZOFFSETFROM:+0200
TZOFFSETTO:+0100
TZNAME:CET
DTSTART:20261025T010000
END:STANDARD
END:VTIMEZONE
BEGIN:VEVENT
DTSTART;TZID=Europe/Berlin:20251031T170000
DTEND;TZID=Europe/Berlin:20251031T223000
DTSTAMP:20260422T112556
CREATED:20250310T145019Z
LAST-MODIFIED:20251029T135832Z
UID:10000931-1761930000-1761949800@juboweinhaus.de
SUMMARY:Halloween Bingo XXL mit Boris x JuBo Weinhaus - Preise von 1000€ Gesamtwert
DESCRIPTION:Bingo XXL &. Boris – ein Abend zum Ankreuzen! \nFreitag ist Bingo XXL Abend im JuBo Weinhaus – und zwar nicht irgendeiner: Bingo Master Boris sorgt mit Charme und Witz dafür\, dass die Kugeln heißlaufen\, die Stimmung überkocht und niemand ohne ein Lächeln nach Hause geht. 4 Runden Bingo\, bei denen es jeweils 6 Gewinne pro Runde zu holen gibt – also insgesamt 24 Gewinnchancen an einem Abend. Die Preise im Gesamtwert von bis zu 1000 € können sich sehen lassen: z.Bsp.: Wertgutscheine\, Weine und Überraschungen\, die garantiert Freude machen. \nUnd weil bei uns im JuBo nicht nur die Zahlen singen\, gibts von Boris auch noch Live Musik & Gesang – ein echtes Highlight zwischen den Runden! Ob allein\, mit Freunden oder der Familie – hier heißt es: ankreuzen &. abräumen. Also Kugeln rollen lassen und einen unvergesslichen Abend erleben. Einlass ist ab 17h\, Spielbeginn um ca. 18:30h. \n  \nWeitere Veranstaltungs Highlights im JuBo: \nEspresso Martini Brunch\, Bottomless Mimosa Brunch\, Bottomless Bingo Brunch\, Bingo\, XXL Bingo\, Business Bingo\, Weinproben\, Wein Hopping\, Kiosk Hopping\, Cocktail Hopping\, Süßwaren Tasting\, Bier Tasting National\, Bier Tasting International\, Gläser bemalen\, Weingläser bemalen\, Länder Themen Abend\, Fondue Abend\, Racelette Abend\, All you can Drink Event\, All you can Eat Events\, Jungesellenabschied und mehr. \n  \n🥂 FEIER ODER EVENT GEPLANT UND AUF DER SUCHE NACH DEM BESONDEREN? 🍽 \nWir bieten Dir eine große Auswahl an Events. Jedes Event kann Individuell geplant und gestaltet werden dass es perfekt zu Dir passt. Egal ob Private Party\, Geburtstag\, Hochzeit\, Jubiläum\, Firmen Event\, Team Building. Ganz gleich ob Du bei uns im JuBo Weinhaus\, bei Dir zu Hause\, in der Firma oder in einer Veranstaltungs Location Deiner Wahl\, Feiern möchtest. Wir setzten Deine Vorstellungen und Wünsche in die Tat um. So wird aus Deiner Feier ein Erlebnis\, das Dir und Deinen Gästen lange in Erinnerung bleibt. \nInteresse oder Fragen?\nMeldet Dich bei uns. Wir sind gerne für Dich da.\n📞 +49 176 84571083 (am besten per Whatsapp)\n📧 Events@JuBoWeinhaus.de
URL:https://juboweinhaus.de/event/xxl-bingo-night-jetzt-noch-mehr-gewinne-19/
LOCATION:JuBo Weinhaus\, Hirschbergstraße 28\, Köln\, NRW\, 50939\, Germany
CATEGORIES:Bingo,JuBo Specials
ORGANIZER;CN="Jubo Weinhaus":MAILTO:events@juboweinhaus.de
END:VEVENT
BEGIN:VEVENT
DTSTART;TZID=Europe/Berlin:20251101T110000
DTEND;TZID=Europe/Berlin:20251101T153000
DTSTAMP:20260422T112556
CREATED:20250212T115218Z
LAST-MODIFIED:20251031T032237Z
UID:10000919-1761994800-1762011000@juboweinhaus.de
SUMMARY:Sondertermin: Bottomless Samstags Brunch x JuBo – All you can!
DESCRIPTION:Erlebe einen unvergesslichen Samstag voller Genuss und guter Laune bei uns im JuBo \nAb 11:00 Uhr heißen wir Dich herzlich willkommen zu unserem Bottomless Brunch.\nBis 15:30 Uhr kannst Du ganz entspannt schlemmen\, plaudern und – wenn Du möchtest – unbegrenzt Mimosa genießen (optional zubuchbar).\nWährend Du Dich verwöhnen lässt\, sorgt unser herzliches Serviceteam für eine rundum wohlfühlende Atmosphäre. \nOb allein\, mit Freunden oder der Familie – der Bottomless Brunch x JuBo ist das perfekte Highlight für alle\, die gutes Essen\, feine Drinks und entspannte Samstage lieben. \n  \n🍽️ Was Dich erwartet:\n✅ Reichhaltiges Buffet – mit Schlemmer Rührei\, knusprigem Bacon\, gekochten Eiern\, reichhaltiger Käse Auswahl\, großer Aufschnitt Vielfalt\, frischem Obst\, süßen sowie herzhaften Aufstrichen\, ofenfrischen Brötchen\, luftigen Croissants\, abwechslungsreichem Dessert Angebot sowie warmen Speisen &. vielen weiteren geschmackvollen Überraschungen.\n🌱 Vegetarische &. vegane Auswahl – für jeden ist etwas dabei!\n🥂 Bottomless – Mimosa (optional zubuchbar)\n🎉 Unvergessliche Atmosphäre – Ob alleine\, mit Freunden oder in der Gruppe\, hier wird geschlemmt\, gelacht\, gesungen und gefeiert!\n🕔 Wann? 11:00h bis 15:30h \n  \n💛 Sichere Dir ein Ticket und sei dabei – wir freuen uns auf Dich! \nMit dem Kauf des Tickets für den entsprechenden Tag\, erfolgt gleichzeitig die Reservierung. \n  \n\nWeitere Veranstaltungs Highlights im JuBo: \nEspresso Martini Brunch\, Bottomless Mimosa Brunch\, Bottomless Bingo Brunch\, Bingo\, XXL Bingo\, Business Bingo\, Weinproben\, Wein Hopping\, Kiosk Hopping\, Cocktail Hopping\, Süßwaren Tasting\, Bier Tasting National\, Bier Tasting International\, Gläser bemalen\, Weingläser bemalen\, Länder Themen Abend\, Fondue Abend\, Racelette Abend\, All you can Drink Event\, All you can Eat Events\, Jungesellenabschied und mehr. \n  \n🥂 FEIER ODER EVENT GEPLANT UND AUF DER SUCHE NACH DEM BESONDEREN? 🍽 \nWir bieten Dir eine große Auswahl an Events. Jedes Event kann Individuell geplant und gestaltet werden dass es perfekt zu Dir passt. Egal ob Private Party\, Geburtstag\, Hochzeit\, Jubiläum\, Firmen Event\, Team Building. Ganz gleich ob Du bei uns im JuBo Weinhaus\, bei Dir zu Hause\, in der Firma oder in einer Veranstaltungs Location Deiner Wahl\, Feiern möchtest. Wir setzten Deine Vorstellungen und Wünsche in die Tat um. So wird aus Deiner Feier ein Erlebnis\, das Dir und Deinen Gästen lange in Erinnerung bleibt. \nInteresse oder Fragen?\nMeldet Dich bei uns. Wir sind gerne für Dich da.\n📞 +49 176 84571083 (am besten per Whatsapp)\n📧 Events@JuBoWeinhaus.de
URL:https://juboweinhaus.de/event/sondertermin-bottomless-brunch-im-jubo-2/
LOCATION:JuBo Weinhaus\, Hirschbergstraße 28\, Köln\, NRW\, 50939\, Germany
CATEGORIES:All you can Drink,All you can Eat,Brunch,JuBo Specials
ORGANIZER;CN="Jubo Weinhaus":MAILTO:events@juboweinhaus.de
END:VEVENT
BEGIN:VEVENT
DTSTART;TZID=Europe/Berlin:20251102T110000
DTEND;TZID=Europe/Berlin:20251102T153000
DTSTAMP:20260422T112556
CREATED:20250109T134321Z
LAST-MODIFIED:20251106T235758Z
UID:10000788-1762081200-1762097400@juboweinhaus.de
SUMMARY:Bottomless Sonntags Brunch x JuBo – All you can!
DESCRIPTION:Erlebe einen unvergesslichen Sonntag voller Genuss und guter Laune bei uns im JuBo \nAb 11:00 Uhr heißen wir Dich herzlich willkommen zu unserem Bottomless Brunch.\nBis 15:30 Uhr kannst Du ganz entspannt schlemmen\, plaudern und – wenn Du möchtest – unbegrenzt Mimosa genießen (optional zubuchbar).\nWährend Du Dich verwöhnen lässt\, sorgt unser herzliches Serviceteam für eine rundum wohlfühlende Atmosphäre. \nOb allein\, mit Freunden oder der Familie – der Bottomless Brunch x JuBo ist das perfekte Highlight für alle\, die gutes Essen\, feine Drinks und entspannte Sonntage lieben. \n  \n🍽️ Was Dich erwartet:\n✅ Reichhaltiges Buffet – mit Schlemmer Rührei\, knusprigem Bacon\, gekochten Eiern\, reichhaltiger Käse Auswahl\, großer Aufschnitt Vielfalt\, frischem Obst\, süßen sowie herzhaften Aufstrichen\, ofenfrischen Brötchen\, luftigen Croissants\, abwechslungsreichem Dessert Angebot sowie warmen Speisen &. vielen weiteren geschmackvollen Überraschungen.\n🌱 Vegetarische &. vegane Auswahl – für jeden ist etwas dabei!\n🥂 Bottomless – Mimosa (optional zubuchbar)\n🎉 Unvergessliche Atmosphäre – Ob alleine\, mit Freunden oder in der Gruppe\, hier wird geschlemmt\, gelacht\, gesungen und gefeiert!\n🕔 Wann? 11:00h bis 15:30h \n  \nEin wunderschöner Abschluss für Dein Wochenende. 💛\nSichere Dir ein Ticket und sei dabei – wir freuen uns auf Dich! \nMit dem Kauf des Tickets für den entsprechenden Tag\, erfolgt gleichzeitig die Reservierung. \n  \n\nWeitere Veranstaltungs Highlights im JuBo: \nEspresso Martini Brunch\, Bottomless Mimosa Brunch\, Bottomless Bingo Brunch\, Bingo\, XXL Bingo\, Business Bingo\, Weinproben\, Wein Hopping\, Kiosk Hopping\, Cocktail Hopping\, Süßwaren Tasting\, Bier Tasting National\, Bier Tasting International\, Gläser bemalen\, Weingläser bemalen\, Länder Themen Abend\, Fondue Abend\, Racelette Abend\, All you can Drink Event\, All you can Eat Events\, Jungesellenabschied und mehr. \n  \n🥂 FEIER ODER EVENT GEPLANT UND AUF DER SUCHE NACH DEM BESONDEREN? 🍽 \nWir bieten Dir eine große Auswahl an Events. Jedes Event kann Individuell geplant und gestaltet werden dass es perfekt zu Dir passt. Egal ob Private Party\, Geburtstag\, Hochzeit\, Jubiläum\, Firmen Event\, Team Building. Ganz gleich ob Du bei uns im JuBo Weinhaus\, bei Dir zu Hause\, in der Firma oder in einer Veranstaltungs Location Deiner Wahl\, Feiern möchtest. Wir setzten Deine Vorstellungen und Wünsche in die Tat um. So wird aus Deiner Feier ein Erlebnis\, das Dir und Deinen Gästen lange in Erinnerung bleibt. \nInteresse oder Fragen?\nMeldet Dich bei uns. Wir sind gerne für Dich da.\n📞 +49 176 84571083 (am besten per Whatsapp)\n📧 Events@JuBoWeinhaus.de
URL:https://juboweinhaus.de/event/bottomless-brunch-im-jubo-44/
LOCATION:JuBo Weinhaus\, Hirschbergstraße 28\, Köln\, NRW\, 50939\, Germany
CATEGORIES:ARCHIV
ORGANIZER;CN="Jubo Weinhaus":MAILTO:events@juboweinhaus.de
END:VEVENT
END:VCALENDAR