BEGIN:VCALENDAR
VERSION:2.0
PRODID:-//JuBo Events &amp; more - Kreativ I Persönlich I Einzigartig - ECPv6.15.20//NONSGML v1.0//EN
CALSCALE:GREGORIAN
METHOD:PUBLISH
X-WR-CALNAME:JuBo Events &amp; more - Kreativ I Persönlich I Einzigartig
X-ORIGINAL-URL:https://juboweinhaus.de
X-WR-CALDESC:Veranstaltungen für JuBo Events &amp; more - Kreativ I Persönlich I Einzigartig
REFRESH-INTERVAL;VALUE=DURATION:PT1H
X-Robots-Tag:noindex
X-PUBLISHED-TTL:PT1H
BEGIN:VTIMEZONE
TZID:Europe/Berlin
BEGIN:DAYLIGHT
TZOFFSETFROM:+0100
TZOFFSETTO:+0200
TZNAME:CEST
DTSTART:20250330T010000
END:DAYLIGHT
BEGIN:STANDARD
TZOFFSETFROM:+0200
TZOFFSETTO:+0100
TZNAME:CET
DTSTART:20251026T010000
END:STANDARD
BEGIN:DAYLIGHT
TZOFFSETFROM:+0100
TZOFFSETTO:+0200
TZNAME:CEST
DTSTART:20260329T010000
END:DAYLIGHT
BEGIN:STANDARD
TZOFFSETFROM:+0200
TZOFFSETTO:+0100
TZNAME:CET
DTSTART:20261025T010000
END:STANDARD
BEGIN:DAYLIGHT
TZOFFSETFROM:+0100
TZOFFSETTO:+0200
TZNAME:CEST
DTSTART:20270328T010000
END:DAYLIGHT
BEGIN:STANDARD
TZOFFSETFROM:+0200
TZOFFSETTO:+0100
TZNAME:CET
DTSTART:20271031T010000
END:STANDARD
END:VTIMEZONE
BEGIN:VEVENT
DTSTART;TZID=Europe/Berlin:20260719T130000
DTEND;TZID=Europe/Berlin:20260719T173000
DTSTAMP:20260422T123653
CREATED:20260406T180257Z
LAST-MODIFIED:20260406T182153Z
UID:10001251-1784466000-1784482200@juboweinhaus.de
SUMMARY:WM Finale XXL Bottomless Samstags Brunch zur Einstimmung - JuBo x Peperino– All you can - Italian Version - Glutenfrei - Vegan
DESCRIPTION:Erlebe einen unvergesslichen Sonntag voller Genuss und guter Laune mit JuBo Events & more im Peperino am Chlodwigplatz und bereite dich bei diesem Brunch auf das WM Finale am 19.07.26 bei leckeren all you can eat Buffet und all you can Drink Mimosas und Espresso Martini. \nAb 13:00 Uhr heißen wir Dich herzlich willkommen zu unserem Bottomless Brunch.\nBis 17:30 Uhr kannst Du ganz entspannt schlemmen\, plaudern und – wenn Du möchtest – unbegrenzt Mimosa genießen.\nWährend Du Dich verwöhnen lässt\, sorgt das herzliche Peperino Serviceteam für eine rundum wohlfühlende Atmosphäre. \nOb allein\, mit Freunden oder der Familie – der Bottomless Brunch von JuBo Events & more im Peperino am Clodwigplatz ist das perfekte Highlight für alle\, die gutes Essen\, feine Drinks und entspannte Sonntage lieben. \n  \n🍽️ Was Dich erwartet:\n✅ Reichhaltiges Buffet – mit Schlemmer Rührei\, knusprigem Bacon\, gekochten Eiern\, reichhaltiger Käse Auswahl\, großer Aufschnitt Vielfalt\, frischem Obst\, süßen sowie herzhaften Aufstrichen\, ofenfrischen Brötchen\, luftigen Croissants\, abwechslungsreichem Dessert Angebot sowie warmen Speisen &. vielen weiteren geschmackvollen Überraschungen.\n🌱 Vegetarische\, Glutenfreie &. vegane Auswahl – für jeden ist etwas dabei!\n🥂 Bottomless – Mimosa oder Espresso Martini (optional zubuchbar)\n🎉 Unvergessliche Atmosphäre – Ob alleine\, mit Freunden oder in der Gruppe\, hier wird geschlemmt\, gelacht\, gesungen und gefeiert!\n🕔 Wann? 13:00h bis 17:30h \n  \nEin wunderschöner Abschluss für Dein Wochenende. 💛\nSichere Dir ein Ticket und sei dabei – wir freuen uns auf Dich! \nMit dem Kauf des Tickets für den entsprechenden Tag\, erfolgt gleichzeitig die Reservierung. \n  \n\nWeitere Veranstaltungs Highlights im JuBo: \nEspresso Martini Brunch\, Bottomless Mimosa Brunch\, Bottomless Bingo Brunch\, Bingo\, XXL Bingo\, Business Bingo\, Weinproben\, Wein Hopping\, Kiosk Hopping\, Cocktail Hopping\, Süßwaren Tasting\, Bier Tasting National\, Bier Tasting International\, Gläser bemalen\, Weingläser bemalen\, Länder Themen Abend\, Fondue Abend\, Racelette Abend\, All you can Drink Event\, All you can Eat Events\, Jungesellenabschied und mehr. \n  \n🥂 FEIER ODER EVENT GEPLANT UND AUF DER SUCHE NACH DEM BESONDEREN? 🍽 \nWir bieten Dir eine große Auswahl an Events. Jedes Event kann Individuell geplant und gestaltet werden dass es perfekt zu Dir passt. Egal ob Private Party\, Geburtstag\, Hochzeit\, Jubiläum\, Firmen Event\, Team Building. Ganz gleich ob Du bei uns im JuBo Weinhaus\, bei Dir zu Hause\, in der Firma oder in einer Veranstaltungs Location Deiner Wahl\, Feiern möchtest. Wir setzten Deine Vorstellungen und Wünsche in die Tat um. So wird aus Deiner Feier ein Erlebnis\, das Dir und Deinen Gästen lange in Erinnerung bleibt. \nInteresse oder Fragen?\nMeldet Dich bei uns. Wir sind gerne für Dich da.\n📞 +49 176 84571083 (am besten per Whatsapp)\n📧 Events@JuBoWeinhaus.de
URL:https://juboweinhaus.de/event/wm-finale-xxl-bottomless-samstags-brunch-zur-einstimmung-jubo-x-peperino-all-you-can-italian-version-glutenfrei-vegan/
LOCATION:Peperino\, Chlodwigplatz 5\, Köln\, 50678\, Germany
CATEGORIES:@ Peperino Köln,All you can Drink,All you can Eat,Brunch,Espresso Martini Brunch,JuBo Specials,Kultur
ATTACH;FMTTYPE=image/jpeg:https://juboweinhaus.de/wp-content/uploads/2025/11/Brunch_JuBo_Peperino.jpg
ORGANIZER;CN="JuBo Events & more":MAILTO:Events@JuBoWeinhaus.de
END:VEVENT
BEGIN:VEVENT
DTSTART;TZID=Europe/Berlin:20260723T180000
DTEND;TZID=Europe/Berlin:20260723T220000
DTSTAMP:20260422T123653
CREATED:20260406T171359Z
LAST-MODIFIED:20260406T171359Z
UID:10001245-1784829600-1784844000@juboweinhaus.de
SUMMARY:Spannende 6er Weinprobe inkl. Pizza\, Antipastivariation und Wasser
DESCRIPTION:Reserviere jetzt Deinen Platz für unser einmaliges Weinprobe Event im Peperino am Chlodwigplatz. \nProbiere für 49\,- sechs verschiedene Weine\, Pizza\, Antipastivariation und Wasser. \nKommt vorbei und genießt mit uns die Zeit.
URL:https://juboweinhaus.de/event/spannende-6er-weinprobe-inkl-pizza-antipastivariation-und-wasser-13/
LOCATION:Peperino\, Chlodwigplatz 5\, Köln\, 50678\, Germany
CATEGORIES:@ Peperino Köln,All you can Eat,Flammkuchen,JuBo Specials,Kultur,Offene Weinprobe
ORGANIZER;CN="JuBo Events & more":MAILTO:Events@JuBoWeinhaus.de
END:VEVENT
BEGIN:VEVENT
DTSTART;TZID=Europe/Berlin:20260806T180000
DTEND;TZID=Europe/Berlin:20260806T220000
DTSTAMP:20260422T123653
CREATED:20260406T171512Z
LAST-MODIFIED:20260406T171512Z
UID:10001246-1786039200-1786053600@juboweinhaus.de
SUMMARY:Spannende 6er Weinprobe inkl. Pizza\, Antipastivariation und Wasser
DESCRIPTION:Reserviere jetzt Deinen Platz für unser einmaliges Weinprobe Event im Peperino am Chlodwigplatz. \nProbiere für 49\,- sechs verschiedene Weine\, Pizza\, Antipastivariation und Wasser. \nKommt vorbei und genießt mit uns die Zeit.
URL:https://juboweinhaus.de/event/spannende-6er-weinprobe-inkl-pizza-antipastivariation-und-wasser-14/
LOCATION:Peperino\, Chlodwigplatz 5\, Köln\, 50678\, Germany
CATEGORIES:@ Peperino Köln,All you can Eat,Flammkuchen,JuBo Specials,Kultur,Offene Weinprobe
ORGANIZER;CN="JuBo Events & more":MAILTO:Events@JuBoWeinhaus.de
END:VEVENT
BEGIN:VEVENT
DTSTART;TZID=Europe/Berlin:20260813T180000
DTEND;TZID=Europe/Berlin:20260813T220000
DTSTAMP:20260422T123653
CREATED:20260406T171613Z
LAST-MODIFIED:20260406T171613Z
UID:10001247-1786644000-1786658400@juboweinhaus.de
SUMMARY:Spannende 6er Weinprobe inkl. Pizza\, Antipastivariation und Wasser
DESCRIPTION:Reserviere jetzt Deinen Platz für unser einmaliges Weinprobe Event im Peperino am Chlodwigplatz. \nProbiere für 49\,- sechs verschiedene Weine\, Pizza\, Antipastivariation und Wasser. \nKommt vorbei und genießt mit uns die Zeit.
URL:https://juboweinhaus.de/event/spannende-6er-weinprobe-inkl-pizza-antipastivariation-und-wasser-15/
LOCATION:Peperino\, Chlodwigplatz 5\, Köln\, 50678\, Germany
CATEGORIES:@ Peperino Köln,All you can Eat,Flammkuchen,JuBo Specials,Kultur,Offene Weinprobe
ORGANIZER;CN="JuBo Events & more":MAILTO:Events@JuBoWeinhaus.de
END:VEVENT
BEGIN:VEVENT
DTSTART;TZID=Europe/Berlin:20260820T180000
DTEND;TZID=Europe/Berlin:20260820T220000
DTSTAMP:20260422T123653
CREATED:20260406T171708Z
LAST-MODIFIED:20260406T171708Z
UID:10001248-1787248800-1787263200@juboweinhaus.de
SUMMARY:Spannende 6er Weinprobe inkl. Pizza\, Antipastivariation und Wasser
DESCRIPTION:Reserviere jetzt Deinen Platz für unser einmaliges Weinprobe Event im Peperino am Chlodwigplatz. \nProbiere für 49\,- sechs verschiedene Weine\, Pizza\, Antipastivariation und Wasser. \nKommt vorbei und genießt mit uns die Zeit.
URL:https://juboweinhaus.de/event/spannende-6er-weinprobe-inkl-pizza-antipastivariation-und-wasser-16/
LOCATION:Peperino\, Chlodwigplatz 5\, Köln\, 50678\, Germany
CATEGORIES:@ Peperino Köln,All you can Eat,Flammkuchen,JuBo Specials,Kultur,Offene Weinprobe
ORGANIZER;CN="JuBo Events & more":MAILTO:Events@JuBoWeinhaus.de
END:VEVENT
BEGIN:VEVENT
DTSTART;TZID=Europe/Berlin:20260903T180000
DTEND;TZID=Europe/Berlin:20260903T220000
DTSTAMP:20260422T123653
CREATED:20260406T171812Z
LAST-MODIFIED:20260406T171812Z
UID:10001249-1788458400-1788472800@juboweinhaus.de
SUMMARY:Spannende 6er Weinprobe inkl. Pizza\, Antipastivariation und Wasser
DESCRIPTION:Reserviere jetzt Deinen Platz für unser einmaliges Weinprobe Event im Peperino am Chlodwigplatz. \nProbiere für 49\,- sechs verschiedene Weine\, Pizza\, Antipastivariation und Wasser. \nKommt vorbei und genießt mit uns die Zeit.
URL:https://juboweinhaus.de/event/spannende-6er-weinprobe-inkl-pizza-antipastivariation-und-wasser-17/
LOCATION:Peperino\, Chlodwigplatz 5\, Köln\, 50678\, Germany
CATEGORIES:@ Peperino Köln,All you can Eat,Flammkuchen,JuBo Specials,Kultur,Offene Weinprobe
ORGANIZER;CN="JuBo Events & more":MAILTO:Events@JuBoWeinhaus.de
END:VEVENT
END:VCALENDAR