BEGIN:VCALENDAR
VERSION:2.0
PRODID:-//JuBo Events &amp; more - Kreativ I Persönlich I Einzigartig - ECPv6.15.20//NONSGML v1.0//EN
CALSCALE:GREGORIAN
METHOD:PUBLISH
X-WR-CALNAME:JuBo Events &amp; more - Kreativ I Persönlich I Einzigartig
X-ORIGINAL-URL:https://juboweinhaus.de
X-WR-CALDESC:Veranstaltungen für JuBo Events &amp; more - Kreativ I Persönlich I Einzigartig
REFRESH-INTERVAL;VALUE=DURATION:PT1H
X-Robots-Tag:noindex
X-PUBLISHED-TTL:PT1H
BEGIN:VTIMEZONE
TZID:Europe/Berlin
BEGIN:DAYLIGHT
TZOFFSETFROM:+0100
TZOFFSETTO:+0200
TZNAME:CEST
DTSTART:20250330T010000
END:DAYLIGHT
BEGIN:STANDARD
TZOFFSETFROM:+0200
TZOFFSETTO:+0100
TZNAME:CET
DTSTART:20251026T010000
END:STANDARD
BEGIN:DAYLIGHT
TZOFFSETFROM:+0100
TZOFFSETTO:+0200
TZNAME:CEST
DTSTART:20260329T010000
END:DAYLIGHT
BEGIN:STANDARD
TZOFFSETFROM:+0200
TZOFFSETTO:+0100
TZNAME:CET
DTSTART:20261025T010000
END:STANDARD
BEGIN:DAYLIGHT
TZOFFSETFROM:+0100
TZOFFSETTO:+0200
TZNAME:CEST
DTSTART:20270328T010000
END:DAYLIGHT
BEGIN:STANDARD
TZOFFSETFROM:+0200
TZOFFSETTO:+0100
TZNAME:CET
DTSTART:20271031T010000
END:STANDARD
END:VTIMEZONE
BEGIN:VEVENT
DTSTART;TZID=Europe/Berlin:20260502T160000
DTEND;TZID=Europe/Berlin:20260502T210000
DTSTAMP:20260421T145450
CREATED:20260224T144835Z
LAST-MODIFIED:20260224T144835Z
UID:10001128-1777737600-1777755600@juboweinhaus.de
SUMMARY:Weinhopping durch das schöne Sülz - Trinken\, Essen\, Lachen : )
DESCRIPTION:Taucht ein in die Welt der Wein-Gastronomie und lernt mit uns die schönsten Lokale und Weine kennen! Unsere Weinhopping-Tour bietet euch ein unvergessliches Erlebnis mit kulinarischen Highlights in Köln-Klettenberg und Sülz. \n\nWas euch erwartet:\n🍷 Vier Stationen\, vier Weine: \n\nIn jedem Lokal wird ein sorgfältig ausgewählter Wein serviert.\n\n🍴 Snacks inklusive: \n\nBegleitend gibt es an jedem Stopp kleine Leckerbissen wie Brot mit köstlichem Dip.\n\n🍷 Abschluss im JuBo Weinhaus: \n\nAm Ende der Tour gibt es im JuBo Weinhaus einen weiteren Snack\, und wir lassen den Abend in entspannter Atmosphäre gemeinsam ausklingen.\nA la carte: Ihr könnt zusätzliche Speisen und Getränke vor Ort bestellen\, wenn ihr möchtet!\n\n\nWie teilnehmen?\n✨ Bucht eure Plätze jetzt: Sobald Ihr ein Ticket gekauft habt\, ist euer Platz reserviert. \nLernt Kölns Weinvielfalt kennen und verbringt einen Abend voller Genuss\, Entdeckungen und Geselligkeit! 🍇🥂 #Weinhopping #Weingenuss #KölnErleben #KulinarischeTour
URL:https://juboweinhaus.de/event/weinhopping-durch-das-schoene-suelz-trinken-essen-lachen-3/
CATEGORIES:@ JuBo,All you can Drink,JuBo Specials,Kultur,Weinhopping
END:VEVENT
BEGIN:VEVENT
DTSTART;TZID=Europe/Berlin:20260509T160000
DTEND;TZID=Europe/Berlin:20260509T210000
DTSTAMP:20260421T145450
CREATED:20260329T171633Z
LAST-MODIFIED:20260329T171633Z
UID:10001191-1778342400-1778360400@juboweinhaus.de
SUMMARY:Weinhopping durch das schöne Sülz - Trinken\, Essen\, Lachen : )
DESCRIPTION:Taucht ein in die Welt der Wein-Gastronomie und lernt mit uns die schönsten Lokale und Weine kennen! Unsere Weinhopping-Tour bietet euch ein unvergessliches Erlebnis mit kulinarischen Highlights in Köln-Klettenberg und Sülz. \n\nWas euch erwartet:\n🍷 Vier Stationen\, vier Weine: \n\nIn jedem Lokal wird ein sorgfältig ausgewählter Wein serviert.\n\n🍴 Snacks inklusive: \n\nBegleitend gibt es an jedem Stopp kleine Leckerbissen wie Brot mit köstlichem Dip.\n\n🍷 Abschluss im JuBo Weinhaus: \n\nAm Ende der Tour gibt es im JuBo Weinhaus einen weiteren Snack\, und wir lassen den Abend in entspannter Atmosphäre gemeinsam ausklingen.\nA la carte: Ihr könnt zusätzliche Speisen und Getränke vor Ort bestellen\, wenn ihr möchtet!\n\n\nWie teilnehmen?\n✨ Bucht eure Plätze jetzt: Sobald Ihr ein Ticket gekauft habt\, ist euer Platz reserviert. \nLernt Kölns Weinvielfalt kennen und verbringt einen Abend voller Genuss\, Entdeckungen und Geselligkeit! 🍇🥂 #Weinhopping #Weingenuss #KölnErleben #KulinarischeTour
URL:https://juboweinhaus.de/event/weinhopping-durch-das-schoene-suelz-trinken-essen-lachen-5/
CATEGORIES:@ JuBo,All you can Drink,JuBo Specials,Kultur,Weinhopping
END:VEVENT
BEGIN:VEVENT
DTSTART;TZID=Europe/Berlin:20260704T160000
DTEND;TZID=Europe/Berlin:20260704T200000
DTSTAMP:20260421T145450
CREATED:20260318T173833Z
LAST-MODIFIED:20260318T185714Z
UID:10001136-1783180800-1783195200@juboweinhaus.de
SUMMARY:Weinhopping durch das schöne Sülz - Trinken\, Essen\, Lachen : )
DESCRIPTION:Taucht ein in die Welt der Wein-Gastronomie und lernt mit uns die schönsten Lokale und Weine kennen! Unsere Weinhopping-Tour bietet euch ein unvergessliches Erlebnis mit kulinarischen Highlights in Köln-Klettenberg und Sülz. \n\nWas euch erwartet:\n🍷 Vier Stationen\, vier Weine: \n\nIn jedem Lokal wird ein sorgfältig ausgewählter Wein serviert.\n\n🍴 Snacks inklusive: \n\nBegleitend gibt es an jedem Stopp kleine Leckerbissen wie Brot mit köstlichem Dip.\n\n🍷 Abschluss im JuBo Weinhaus: \n\nAm Ende der Tour gibt es im JuBo Weinhaus einen weiteren Snack\, und wir lassen den Abend in entspannter Atmosphäre gemeinsam ausklingen.\nA la carte: Ihr könnt zusätzliche Speisen und Getränke vor Ort bestellen\, wenn ihr möchtet!\n\n\nWie teilnehmen?\n✨ Bucht eure Plätze jetzt: Sobald Ihr ein Ticket gekauft habt\, ist euer Platz reserviert. \nLernt Kölns Weinvielfalt kennen und verbringt einen Abend voller Genuss\, Entdeckungen und Geselligkeit! 🍇🥂 #Weinhopping #Weingenuss #KölnErleben #KulinarischeTour
URL:https://juboweinhaus.de/event/weinhopping-durch-das-schoene-suelz-trinken-essen-lachen-4/
CATEGORIES:@ JuBo,All you can Drink,JuBo Specials,Kultur,Weinhopping
END:VEVENT
END:VCALENDAR